BEGIN:VCALENDAR
VERSION:2.0
PRODID:-//Contratero//ES
CALSCALE:GREGORIAN
METHOD:PUBLISH
BEGIN:VEVENT
UID:SSCC PN 14/25@contratero.es
DTSTAMP:20260421T154212Z
DTSTART:20250630T235959
DTEND:20250701T005959
SUMMARY:Cierre: Contrato mixto de servicios de mantenimiento de si
DESCRIPTION:Contrato mixto de servicios de mantenimiento de sistemas de información corporativos de imagen digital\, radiología y cardiología del Servicio de Salud de las Illes Balears y la ampliación del sistema ...\\n\\nOrganismo: Servicio de Salud de las Illes Balears\\n\\nVer en Contratero: https://contratero.es/contracts/SSCC PN 14/25
URL:https://contratero.es/contracts/SSCC PN 14/25
STATUS:CONFIRMED
BEGIN:VALARM
TRIGGER:-P1D
ACTION:DISPLAY
DESCRIPTION:Recordatorio: Contrato mixto de servicios de
END:VALARM
END:VEVENT
END:VCALENDAR